BEGIN:VCALENDAR
VERSION:2.0
PRODID:-//Site de la Formation Syndicale FNSCBA - ECPv6.15.20//NONSGML v1.0//EN
CALSCALE:GREGORIAN
METHOD:PUBLISH
X-WR-CALNAME:Site de la Formation Syndicale FNSCBA
X-ORIGINAL-URL:https://fnscba.com/formationsyndicale
X-WR-CALDESC:Évènements pour Site de la Formation Syndicale FNSCBA
REFRESH-INTERVAL;VALUE=DURATION:PT1H
X-Robots-Tag:noindex
X-PUBLISHED-TTL:PT1H
BEGIN:VTIMEZONE
TZID:Europe/Paris
BEGIN:DAYLIGHT
TZOFFSETFROM:+0100
TZOFFSETTO:+0200
TZNAME:CEST
DTSTART:20240331T010000
END:DAYLIGHT
BEGIN:STANDARD
TZOFFSETFROM:+0200
TZOFFSETTO:+0100
TZNAME:CET
DTSTART:20241027T010000
END:STANDARD
BEGIN:DAYLIGHT
TZOFFSETFROM:+0100
TZOFFSETTO:+0200
TZNAME:CEST
DTSTART:20250330T010000
END:DAYLIGHT
BEGIN:STANDARD
TZOFFSETFROM:+0200
TZOFFSETTO:+0100
TZNAME:CET
DTSTART:20251026T010000
END:STANDARD
BEGIN:DAYLIGHT
TZOFFSETFROM:+0100
TZOFFSETTO:+0200
TZNAME:CEST
DTSTART:20260329T010000
END:DAYLIGHT
BEGIN:STANDARD
TZOFFSETFROM:+0200
TZOFFSETTO:+0100
TZNAME:CET
DTSTART:20261025T010000
END:STANDARD
END:VTIMEZONE
BEGIN:VEVENT
DTSTART;TZID=Europe/Paris:20251117T140000
DTEND;TZID=Europe/Paris:20251121T170000
DTSTAMP:20260425T222824
CREATED:20220830T114015Z
LAST-MODIFIED:20250722T082524Z
UID:826-1763388000-1763744400@fnscba.com
SUMMARY:Formation dirigeant - Conduire une activité fédérale
DESCRIPTION:Avoir des responsabilités fédérales dans une USCBA\, une URCBA\, une coordination de groupe ou un syndicat demande des connaissances\, des savoirs faire. Si ces responsabilités sont bien assurées\, elles permettent de tisser des liens et des avancées du syndicalisme CGT. \nLa Formation Syndicale contribue à améliorer l’activité des dirigeants de tous nos relais. \nPour répondre en partie aux préoccupations des salariés\, nous vous proposons un stage : \nFormation Dirigeant « Conduire une activité fédérale » (voir programme ci-joint) qui aura lieu du : \nLundi 17 novembre au vendredi 21 novembre 2025 \nà Montreuil (93) – Salle Cazenave – Noyau A – 1er étage \nDébut du stage : 14 heures précises \n  \nCette formation est prise en charge sur la formation économique\, sociale\, environnementale et syndicale (0.016 %). \nAvant d’envoyer votre demande\, prévenir la Fédération auprès de Pascal au 07.75.71.26.58 \nNiveaux requis : « Participer à la vie de la CGT » et « Développer la CGT » (ex niveau 1 et/ou 2) \nRappel : la demande d’autorisation d’absence auprès de l’employeur est à faire un mois avant la date du début du stage soit avant le 17 octobre 2025. \nCourrier Dirigeant nov 2025 \nConduire une activité fédérale nov 2025
URL:https://fnscba.com/formationsyndicale/stage/conduire-une-activite-federale/
LOCATION:FNSCBA Salle Cazenave – Noyaux A – 1er étage  –\, 263 rue de Paris\, Montreuil\, 93100\, France
ORGANIZER;CN="FNSCBA Formation Syndicale":MAILTO:formation@construction.cgt.fr
END:VEVENT
END:VCALENDAR