BEGIN:VCALENDAR
VERSION:2.0
PRODID:-//Site de la Formation Syndicale FNSCBA - ECPv6.15.20//NONSGML v1.0//EN
CALSCALE:GREGORIAN
METHOD:PUBLISH
X-ORIGINAL-URL:https://fnscba.com/formationsyndicale
X-WR-CALDESC:Évènements pour Site de la Formation Syndicale FNSCBA
REFRESH-INTERVAL;VALUE=DURATION:PT1H
X-Robots-Tag:noindex
X-PUBLISHED-TTL:PT1H
BEGIN:VTIMEZONE
TZID:Europe/Paris
BEGIN:DAYLIGHT
TZOFFSETFROM:+0100
TZOFFSETTO:+0200
TZNAME:CEST
DTSTART:20250330T010000
END:DAYLIGHT
BEGIN:STANDARD
TZOFFSETFROM:+0200
TZOFFSETTO:+0100
TZNAME:CET
DTSTART:20251026T010000
END:STANDARD
BEGIN:DAYLIGHT
TZOFFSETFROM:+0100
TZOFFSETTO:+0200
TZNAME:CEST
DTSTART:20260329T010000
END:DAYLIGHT
BEGIN:STANDARD
TZOFFSETFROM:+0200
TZOFFSETTO:+0100
TZNAME:CET
DTSTART:20261025T010000
END:STANDARD
BEGIN:DAYLIGHT
TZOFFSETFROM:+0100
TZOFFSETTO:+0200
TZNAME:CEST
DTSTART:20270328T010000
END:DAYLIGHT
BEGIN:STANDARD
TZOFFSETFROM:+0200
TZOFFSETTO:+0100
TZNAME:CET
DTSTART:20271031T010000
END:STANDARD
END:VTIMEZONE
BEGIN:VEVENT
DTSTART;TZID=Europe/Paris:20260302T110000
DTEND;TZID=Europe/Paris:20260305T170000
DTSTAMP:20260425T162717
CREATED:20250128T143904Z
LAST-MODIFIED:20260120T103953Z
UID:1031-1772449200-1772730000@fnscba.com
SUMMARY:Stage « Mieux travailler ensemble en CSE »
DESCRIPTION:Poursuivant son travail de formation des militants\, la Fédération a programmé un nouveau stage intitulé « Mieux travailler ensemble en CSE » qui aura lieu du : \n2 mars au 5 mars 2026\, Accueil : 11 h 00 \nà Courcelle sur Yvette (91) \n  \n  \nProgramme \n• Faire un état des lieux du fonctionnement des instances depuis la mise en place des CSE\n• Contraintes et difficultés (ODJ\, réunions\, plans d’actions\, relations CSSCT – CSE / CSEc – CSEe / RP\, sujets des conditions de travail complexes à traiter\, etc…)\n• Ressources possibles / axes d’amélioration\n• Rappel des ordonnances MACRON : ordre public / supplétifs / accords\n• Connaissez-vous vos accords de mise en place du CSE ?\n• Connaissez-vous les éléments supplétifs\, en l’absence d’accord ?\n• Anticiper des axes d’amélioration structurants dans le cadre de la renégociation des accords\n• Identifier des leviers dans diverses situations à problème : périmètres élargis\, minorités syndicales\, manque de dialogue social\, sujets complexes à traiter\n• Compréhension et enjeux de la loi du 2 août 2021 (loi santé)\n• Les obligations envers le CSE et les OS\n• Obligations envers les salariés\n  \nCourrier Mieux travailler ensemble en CSE mars 2026 \nSTAGE Mieux travailler ensembre en CSE mars 2026
URL:https://fnscba.com/formationsyndicale/stage/stage-mieux-travailler-ensemble-en-cse/
LOCATION:Centre Benoît Frachon\, 12\, rue Fernand Léger \, Gif-sur-Yvette\, 91190 \, France
ORGANIZER;CN="FNSCBA Formation Syndicale":MAILTO:formation@construction.cgt.fr
END:VEVENT
BEGIN:VEVENT
DTSTART;TZID=Europe/Paris:20260309T100000
DTEND;TZID=Europe/Paris:20260313T140000
DTSTAMP:20260425T162717
CREATED:20200210T184606Z
LAST-MODIFIED:20260120T105210Z
UID:643-1773050400-1773410400@fnscba.com
SUMMARY:ECO/CSE
DESCRIPTION:Poursuivant son travail de formation des militants et des syndiqués\, la Fédération a programmé un stage ECO/CSE ouvert aux élus du Comité Social et Economique qui aura lieu du : \n9 mars au 13 mars 2026\, Accueil : 10 h 00 \nà Courcelle sur Yvette (91)  \n  \nTrouvez ci–joint les documents suivants : \n▪ La demande de congé de formation à envoyer avant le 9 février 2026\n▪ Un bulletin d’inscription\n▪ Un modèle de devis\n\nCourrier ECO CSE mars 2026\n\nSTAGE ECO_CSE mars 2026
URL:https://fnscba.com/formationsyndicale/stage/eco-cse/
LOCATION:Centre Benoît Frachon\, 12\, rue Fernand Léger \, Gif-sur-Yvette\, 91190 \, France
ORGANIZER;CN="FNSCBA Formation Syndicale":MAILTO:formation@construction.cgt.fr
END:VEVENT
BEGIN:VEVENT
DTSTART;TZID=Europe/Paris:20260319T093000
DTEND;TZID=Europe/Paris:20260320T170000
DTSTAMP:20260425T162717
CREATED:20250722T133209Z
LAST-MODIFIED:20260120T101421Z
UID:1080-1773912600-1774026000@fnscba.com
SUMMARY:L’action syndicale contre le pouvoir disciplinaire de l’employeur
DESCRIPTION:Poursuivant son travail de formation des militants\, la Fédération a programmé un nouveau stage intitulé « L’action syndicale contre le pouvoir disciplinaire de l’employeur » qui aura lieu du : \nJeudi 19 mars au vendredi 20 mars 2026  A 9 h 30 \nDans la salle Cazenave – Noyau A – 1er étage  \n263 rue de Paris 93100 MONTREUIL \n  \nTrouvez ci joint les documents suivants : \n\nLa demande de congé de formation qui doit être faite auprès de l’employeur au moins 30 jours avant le début du stage\nUn bulletin d’inscription\n\n  \nAvant toute demande de congés auprès de l’employeur\, prévenir la Fédération par téléphone auprès de Pascal au 07.75.71.26.58 après accord\, retourner très rapidement le bulletin d’inscription à la Fédération par courrier\, par fax ou par Email : formation@construction.cgt.fr \nCourrier Action syndicale contre le pouvoir disciplinaire mars2026
URL:https://fnscba.com/formationsyndicale/stage/laction-syndicale-contre-le-pouvoir-disciplinaire-de-lemployeur/
LOCATION:FNSCBA Salle Cazenave – Noyaux A – 1er étage  –\, 263 rue de Paris\, Montreuil\, 93100\, France
ORGANIZER;CN="FNSCBA Formation Syndicale":MAILTO:formation@construction.cgt.fr
END:VEVENT
END:VCALENDAR