BEGIN:VCALENDAR
VERSION:2.0
PRODID:-//Site de la Formation Syndicale FNSCBA - ECPv6.15.20//NONSGML v1.0//EN
CALSCALE:GREGORIAN
METHOD:PUBLISH
X-ORIGINAL-URL:https://fnscba.com/formationsyndicale
X-WR-CALDESC:Évènements pour Site de la Formation Syndicale FNSCBA
REFRESH-INTERVAL;VALUE=DURATION:PT1H
X-Robots-Tag:noindex
X-PUBLISHED-TTL:PT1H
BEGIN:VTIMEZONE
TZID:Europe/Paris
BEGIN:DAYLIGHT
TZOFFSETFROM:+0100
TZOFFSETTO:+0200
TZNAME:CEST
DTSTART:20250330T010000
END:DAYLIGHT
BEGIN:STANDARD
TZOFFSETFROM:+0200
TZOFFSETTO:+0100
TZNAME:CET
DTSTART:20251026T010000
END:STANDARD
BEGIN:DAYLIGHT
TZOFFSETFROM:+0100
TZOFFSETTO:+0200
TZNAME:CEST
DTSTART:20260329T010000
END:DAYLIGHT
BEGIN:STANDARD
TZOFFSETFROM:+0200
TZOFFSETTO:+0100
TZNAME:CET
DTSTART:20261025T010000
END:STANDARD
BEGIN:DAYLIGHT
TZOFFSETFROM:+0100
TZOFFSETTO:+0200
TZNAME:CEST
DTSTART:20270328T010000
END:DAYLIGHT
BEGIN:STANDARD
TZOFFSETFROM:+0200
TZOFFSETTO:+0100
TZNAME:CET
DTSTART:20271031T010000
END:STANDARD
END:VTIMEZONE
BEGIN:VEVENT
DTSTART;TZID=Europe/Paris:20260601T100000
DTEND;TZID=Europe/Paris:20260605T130000
DTSTAMP:20260425T174205
CREATED:20231205T084838Z
LAST-MODIFIED:20260120T105425Z
UID:927-1780308000-1780664400@fnscba.com
SUMMARY:ECO/CSE
DESCRIPTION:Poursuivant son travail de formation des militants et des syndiqués\, la Fédération a programmé un stage ECO/CSE ouvert aux élus du Comité Social et Economique qui aura lieu du : \n1er juin au 5 juin 2026 \nAccueil : 10 h 00 \nà Courcelle sur Yvette (91) \n  \nTrouvez ci-joint les documents suivants : \n\nLa demande de congé de formation à envoyer avant le 1er mai 2026\nUn bulletin d’inscription\nUn modèle de devis\n\nCourrier ECO CSE juin 2026 \nSTAGE ECO_CSE juin 2026 \n 
URL:https://fnscba.com/formationsyndicale/stage/eco-cse-3/
LOCATION:Centre Benoît Frachon\, 12\, rue Fernand Léger \, Gif-sur-Yvette\, 91190 \, France
ORGANIZER;CN="FNSCBA Formation Syndicale":MAILTO:formation@construction.cgt.fr
END:VEVENT
BEGIN:VEVENT
DTSTART;TZID=Europe/Paris:20260608T103000
DTEND;TZID=Europe/Paris:20260612T170000
DTSTAMP:20260425T174205
CREATED:20250722T080413Z
LAST-MODIFIED:20260414T083703Z
UID:1066-1780914600-1781283600@fnscba.com
SUMMARY:Vie Syndicale : outils et repères - COMPLET
DESCRIPTION:Nos décisions de congrès nous ont amené à avoir une réflexion approfondie sur la qualité de notre vie syndicale et sur le fonctionnement de nos structures (syndicats et relais fédéraux) \nDans ce cadre\, le collectif Formation Syndicale fédérale a réfléchi à construire un module intitulé « Vie Syndicale : outils et repères ». \nCelui-ci a pour but de donner aux militants\, ayant en charge des responsabilités dans les syndicats et relais fédéraux\, des repères et des méthodes pour faire vivre notre organisation. \nComment donner les bases de fonctionnement pour avoir une qualité de vie syndicale satisfaisante ? \nComment mettre en œuvre nos résolutions de congrès ? \nJe vous rappelle que les pré-requis pour cette formation sont impérativement le niveau 1 et/ou 2. \nNous te proposons de participer à cette session qui aura lieu du : \n8 juin au 12 juin 2026 \nDébut du stage 10 h 30  \nAu Centre Benoit Frachon à Courcelle (91) \nLe nombre de places étant limité\, contacter Pascal Pelthier au 07.75.71.26.58 et retourner très rapidement le bulletin d’inscription (ci-joint) à la Fédération par courrier ou par Email : formation@construction.cgt.fr \nCourrier Vie Syndicale juin 2026 \nSTAGE VIE SYNDICALE juin 2026
URL:https://fnscba.com/formationsyndicale/stage/vie-syndicale-outils-et-reperes/
LOCATION:Centre Benoît Frachon\, 12\, rue Fernand Léger \, Gif-sur-Yvette\, 91190 \, France
ORGANIZER;CN="FNSCBA Formation Syndicale":MAILTO:formation@construction.cgt.fr
END:VEVENT
BEGIN:VEVENT
DTSTART;VALUE=DATE:20260616
DTEND;VALUE=DATE:20260617
DTSTAMP:20260425T174205
CREATED:20260422T084624Z
LAST-MODIFIED:20260422T084624Z
UID:1164-1781568000-1781654399@fnscba.com
SUMMARY:journée d'étude Risques Psycho-Sociaux
DESCRIPTION:Dans le cadre de notre plan de formation\, le collectif fédéral Formation Syndicale vous invite à participer à une journée d’étude sur les Risques Psycho-Sociaux animée par Hayate BAZZAH (Agir Cse) qui aura lieu le : \nMardi 16 juin 2026 au complexe CGT\,\nSalle Louis Saillant – Noyau B – RH.\nAccueil : 8h30 – Début : 9H00. \nCette journée permettra aux élus du CSE et délégués syndicaux de maitriser l’analyse des\nindicateurs socio-économiques pour détester les risques psycho-sociaux.\nCette journée d’étude est prise en charge sur le congé de formation économique\, sociale\,\nenvironnementale et syndicale (0.016 %) ou s’absenter sur les heures de délégation. \nCourrier Journée d’étude Rps 16 juin 2026 \nProgramme_Formation_RPS_Indicateurs_Agir CSE
URL:https://fnscba.com/formationsyndicale/stage/journee-detude-risques-psycho-sociaux/
LOCATION:FNSCBA MONTREUIL – salle Louis Saillant B13 – Noyau B – RDC Haut\, 263 rue de paris\, Montreuil\, 93100\, France
END:VEVENT
BEGIN:VEVENT
DTSTART;TZID=Europe/Paris:20260617T100000
DTEND;TZID=Europe/Paris:20260619T170000
DTSTAMP:20260425T174205
CREATED:20220607T132744Z
LAST-MODIFIED:20260120T150253Z
UID:793-1781690400-1781888400@fnscba.com
SUMMARY:Stage "Négociations collectives"
DESCRIPTION:a loi El Khomri en 2016 puis les ordonnances Macron bouleversent la négociation collective : hiérarchiedes normes\, validité des accords\, référendum\, fin des avantages individuels acquis\, nouveaux thèmes de négociation. La Fédération vous propose ces journées pour maitriser les changements et réfléchir aux pratiques à développer. \nPar conséquent\, la Fédération a programmé un stage intitulé « Négociations collectives » qui aura lieu du : \nMercredi 17 juin au vendredi 19 juin 2026 \nA 10 h 00  \ndans la salle Cazenave – Noyau A – 1er étage \n263 rue de Paris 93100 MONTREUIL \n\nTrouvez ci joint les documents suivants : \n▪ La demande de congé de formation qui doit être faite auprès de l’employeur au moins 30 jours avant le début du stage\n▪ Un bulletin d’inscription\n\nAvant toute demande de congés auprès de l’employeur\, prévenir la Fédération par téléphone auprès de Pascal au 07.75.71.26.58 après accord\, retourner très rapidement le bulletin d’inscription à la Fédération par courrier\, par fax ou par Email : formation@construction.cgt.fr \nCourrier Négociations collectives juin2026 \nSTAGE Négociations collectives juin 2026
URL:https://fnscba.com/formationsyndicale/stage/negociations-collectives/
LOCATION:FNSCBA Salle Cazenave – Noyaux A – 1er étage  –\, 263 rue de Paris\, Montreuil\, 93100\, France
ORGANIZER;CN="FNSCBA Formation Syndicale":MAILTO:formation@construction.cgt.fr
END:VEVENT
BEGIN:VEVENT
DTSTART;TZID=Europe/Paris:20260629T100000
DTEND;TZID=Europe/Paris:20260630T170000
DTSTAMP:20260425T174205
CREATED:20220607T131159Z
LAST-MODIFIED:20260414T083539Z
UID:784-1782727200-1782838800@fnscba.com
SUMMARY:Cogetise / Cogitiel - COMPLET
DESCRIPTION:La Fédération organise un stage de deux jours sur le Cogetise / Cogitiel qui aura lieu du  \nLundi 29 juin au mardi 30 juin 2026 \nDébut du stage : 10 h 00 \nà Courcelle sur Yvette (91)  \nCe stage te permettra de savoir faire une déclaration Cogetise par internet et te permettra d’utiliser la base de données pour entrer tes nouveaux adhérents qui recevront ainsi le journal de la CGT « Ensemble ». \nUne bonne connaissance et maîtrise de l’outil informatique est souhaitable. \nAvant toute demande de congés auprès de l’employeur\, prévenir la Fédération par téléphone auprès de Pascal au 07.75.71.26.58 après accord\, retourner très rapidement le bulletin d’inscription à la Fédération par courrier\, par fax ou par Email : formation@construction.cgt.fr \n  \ncourrier cogitiel cogetise juin2026 \n 
URL:https://fnscba.com/formationsyndicale/stage/cogetise-cogitiel/
LOCATION:Centre Benoît Frachon\, 12\, rue Fernand Léger \, Gif-sur-Yvette\, 91190 \, France
ORGANIZER;CN="FNSCBA Formation Syndicale":MAILTO:formation@construction.cgt.fr
END:VEVENT
END:VCALENDAR